BEGIN:VCALENDAR
VERSION:2.0
PRODID:-//Next-Event//DE//EN
CALSCALE:GREGORIAN
METHOD:PUBLISH
BEGIN:VEVENT
UID:event-evt_5dd55fb796ed_690213f0@www.next-event.info
DTSTAMP:20260420T090431Z
SUMMARY:Oldieabend
DTSTART;TZID=Europe/Berlin:20251025T180000
DTEND;TZID=Europe/Berlin:20251025T200000
LOCATION:TK Heißen
DESCRIPTION:Oldieabend im TK Heißen bei P7\nMehr Info: https://www.next-ev
 ent.info/index.php?route=event&id=evt_5dd55fb796ed_690213f0
URL:https://www.next-event.info/index.php?route=event&id=evt_5dd55fb796ed_6
 90213f0
END:VEVENT
END:VCALENDAR
